BEGIN:VCALENDAR
VERSION:2.0
PRODID:-//National Western Complex - ECPv6.15.20//NONSGML v1.0//EN
CALSCALE:GREGORIAN
METHOD:PUBLISH
X-ORIGINAL-URL:https://nationalwesterncomplex.com
X-WR-CALDESC:Events for National Western Complex
REFRESH-INTERVAL;VALUE=DURATION:PT1H
X-Robots-Tag:noindex
X-PUBLISHED-TTL:PT1H
BEGIN:VTIMEZONE
TZID:America/Denver
BEGIN:DAYLIGHT
TZOFFSETFROM:-0700
TZOFFSETTO:-0600
TZNAME:MDT
DTSTART:20240310T090000
END:DAYLIGHT
BEGIN:STANDARD
TZOFFSETFROM:-0600
TZOFFSETTO:-0700
TZNAME:MST
DTSTART:20241103T080000
END:STANDARD
BEGIN:DAYLIGHT
TZOFFSETFROM:-0700
TZOFFSETTO:-0600
TZNAME:MDT
DTSTART:20250309T090000
END:DAYLIGHT
BEGIN:STANDARD
TZOFFSETFROM:-0600
TZOFFSETTO:-0700
TZNAME:MST
DTSTART:20251102T080000
END:STANDARD
BEGIN:DAYLIGHT
TZOFFSETFROM:-0700
TZOFFSETTO:-0600
TZNAME:MDT
DTSTART:20260308T090000
END:DAYLIGHT
BEGIN:STANDARD
TZOFFSETFROM:-0600
TZOFFSETTO:-0700
TZNAME:MST
DTSTART:20261101T080000
END:STANDARD
END:VTIMEZONE
BEGIN:VEVENT
DTSTART;TZID=America/Denver:20251101T090000
DTEND;TZID=America/Denver:20251101T150000
DTSTAMP:20260420T084711
CREATED:20240429T153852Z
LAST-MODIFIED:20250520T164350Z
UID:10000514-1761987600-1762009200@nationalwesterncomplex.com
SUMMARY:VeloSwap
DESCRIPTION:Join us for Colorado’s Largest Bike Expo\n\n\n\n\n\n\n\n\n\n\n\n \n\n\n\n\n\n\n\n\n\n\n\n\nGet ready for season ending deals not only on bikes\, but also on wheels\, tires\, and clothing at the annual Veloswap Bike Expo.  The annual shopping and family fun bonanza is November 1st\, 2025 at the National Western Complex in downtown Denver. Come find excess inventory from retailers\, along with special buys from manufacturers\, events and merchandise to create the single\, largest bike sale of the year. \n\n\n\n\n\n\n\n\nSchedule of Events\n8:30 a.m. – Doors open to Bicycle Colorado Members Only \n9:00 a.m. – Doors open for General public \n10:00 a.m to 2:00 p.m. – Kids Zone \n3:00 p.m. – Doors close \n**Times are subject to change \n\n\n\n\n\n\n\nLearn More\n\n\n\n\n\n\n\n\n\n\n\n \n\n\n\n\n\n\n\n\n\n\n\n\n\n\n\nWhether you’re looking for a cruiser\, mountain\, road\, e-bikes\, or kids bikes\, VeloSwap has it all! Bring the whole family out for a day of deals & fun
URL:https://nationalwesterncomplex.com/event/veloswap/
LOCATION:Expo Hall and Hall of Education
ATTACH;FMTTYPE=image/png:https://nationalwesterncomplex.com/wp-content/uploads/2024/04/VeloSwap-Logo-e1747759379837.png
END:VEVENT
BEGIN:VEVENT
DTSTART;TZID=America/Denver:20251101T090000
DTEND;TZID=America/Denver:20251101T180000
DTSTAMP:20260420T084711
CREATED:20160318T012754Z
LAST-MODIFIED:20250616T195532Z
UID:10000201-1761987600-1762020000@nationalwesterncomplex.com
SUMMARY:RMN Events - Monster Match Nationals
DESCRIPTION:Monster Match Nationals\n\n\nNational Western Event Center4655 Humboldt St\, Denver\, CO 80216\, USA \n\n\n\nAge Groups: K-12TH Grade\nAge: Monster Match Nationals – Your age as of Jan 1st\, 2026\nStyle: Folkstyle\nWrestlers: 2\,500\nStates: 32 \nAwards: Regular Divisions –Trophies for 1st\, 2nd\, and 3rd places\, Medals for 4th-6th place. \nRookie and Open Divisions – Medal 1st- 6th place. \nRegular Registration: $70 \nRookie Registration: $50 \nDeadline: Last day for online registration is Tuesday\, Oct. 28th\, 2025\, at 12 Midnight. If the registration is sold out\, we will not be accepting registrations at weigh-ins. $15 will be added to any late/onsite registration. \nAll Brackets and Streaming are held on Arena.Flowrestling.org \nViewing your Bracket: RMN has 2 onsite kiosks where you can view your brackets. \nNEW NEAR FALL AND FALL CRITERIA FOR BOUNDARY LINES!!! \nHEADGEAR: Mandatory 13 and Under\, Optional for 15 and Above \nRMN RESERVES the right to combine brackets when necessary
URL:https://nationalwesterncomplex.com/event/rmn-events-monster-match/
LOCATION:NW Events Center
ATTACH;FMTTYPE=image/png:https://nationalwesterncomplex.com/wp-content/uploads/2016/03/RMNLogo-e1458838867738.png
ORGANIZER;CN="RMN Events":MAILTO:info@rmnevents.com
END:VEVENT
BEGIN:VEVENT
DTSTART;TZID=America/Denver:20251102T100000
DTEND;TZID=America/Denver:20251102T180000
DTSTAMP:20260420T084711
CREATED:20250616T200016Z
LAST-MODIFIED:20250616T200211Z
UID:10000589-1762077600-1762106400@nationalwesterncomplex.com
SUMMARY:Cheer Athletics Denver The Blue Debut
DESCRIPTION:
URL:https://nationalwesterncomplex.com/event/cheer-athletics-denver-the-blue-debut/
LOCATION:National Western Complex
ATTACH;FMTTYPE=image/webp:https://nationalwesterncomplex.com/wp-content/uploads/2025/06/cheerathleticslogo.webp
END:VEVENT
BEGIN:VEVENT
DTSTART;TZID=America/Denver:20251108T080000
DTEND;TZID=America/Denver:20251108T200000
DTSTAMP:20260420T084711
CREATED:20230712T213248Z
LAST-MODIFIED:20250520T214802Z
UID:10000449-1762588800-1762632000@nationalwesterncomplex.com
SUMMARY:UCA Colorado Regional
DESCRIPTION:
URL:https://nationalwesterncomplex.com/event/uca-uda-mile-high-regional/
LOCATION:NW Events Center
ATTACH;FMTTYPE=image/png:https://nationalwesterncomplex.com/wp-content/uploads/2016/03/logo-uca.png
END:VEVENT
BEGIN:VEVENT
DTSTART;TZID=America/Denver:20251109T100000
DTEND;TZID=America/Denver:20251109T170000
DTSTAMP:20260420T084711
CREATED:20220809T213607Z
LAST-MODIFIED:20250520T171553Z
UID:10000376-1762682400-1762707600@nationalwesterncomplex.com
SUMMARY:Denver Cat Fest
DESCRIPTION: 
URL:https://nationalwesterncomplex.com/event/cat-fest/
LOCATION:Expo Hall
ATTACH;FMTTYPE=image/jpeg:https://nationalwesterncomplex.com/wp-content/uploads/2022/08/catfest-logo-01.jpg
ORGANIZER;CN="Dana Cain Events":MAILTO:dana@danacain.com
END:VEVENT
BEGIN:VEVENT
DTSTART;TZID=America/Denver:20251112T180000
DTEND;TZID=America/Denver:20251112T230000
DTSTAMP:20260420T084711
CREATED:20250801T162909Z
LAST-MODIFIED:20250801T162909Z
UID:10000602-1762970400-1762988400@nationalwesterncomplex.com
SUMMARY:Private Event
DESCRIPTION:
URL:https://nationalwesterncomplex.com/event/private-event-7/
LOCATION:National Western Complex
END:VEVENT
BEGIN:VEVENT
DTSTART;TZID=America/Denver:20251119T173000
DTEND;TZID=America/Denver:20251119T203000
DTSTAMP:20260420T084711
CREATED:20170825T231453Z
LAST-MODIFIED:20250820T194922Z
UID:10000238-1763573400-1763584200@nationalwesterncomplex.com
SUMMARY:The Meat & Greet
DESCRIPTION:Colorado FFA Foundation presents The Meat & Greet\, featuring locally sourced cuisine\, kids & critters.
URL:https://nationalwesterncomplex.com/event/the-meat-greet/
LOCATION:Stadium Arena
END:VEVENT
BEGIN:VEVENT
DTSTART;TZID=America/Denver:20251121T090000
DTEND;TZID=America/Denver:20251121T190000
DTSTAMP:20260420T084711
CREATED:20240418T184818Z
LAST-MODIFIED:20250520T211857Z
UID:10000580-1763715600-1763751600@nationalwesterncomplex.com
SUMMARY:Denver Christmas Show
DESCRIPTION:SHOW DATES & HOURS\n\n\n\nFriday\,\nNovember 21\, 2025\n  9:00 am – 7:00 pm\n\n\nSaturday\,\nNovember 22\, 2025\n  9:00 am – 7:00 pm\n\n\nSunday\,\nNovember 23\, 2025\n10:00 am – 5:00 pm\n\n\n\n\n\n\n\n\n\n\n\n  \nAdmission\nAdults (at the door): $17.00\nAdults (online only): $16.00\nChildren Ages 13 & Under (at the door): FREE\nGroups (10+ tickets): $13 \nBuy Tickets \n\n\nMilitary Discount available AT DOOR only – $3.00 off with a valid active or retired military ID. \n*Adult Admission Tickets are Valid for one day of the show\, but can be used on Friday\, Saturday\, or Sunday* \nBuy Group Tickets \n  \n\nHelp\, I’m unable to find the tickets I purchased online!\nBe sure to check your junk email folder first. \nYou may have your ticket confirmation email resent to you by visiting the following link: https://www.microspec.com/tix123/Resend.cfm
URL:https://nationalwesterncomplex.com/event/denver-christmas-show/2025-11-21/
LOCATION:National Western Complex
ATTACH;FMTTYPE=image/jpeg:https://nationalwesterncomplex.com/wp-content/uploads/2024/04/denver-christmas-show.jpg
END:VEVENT
BEGIN:VEVENT
DTSTART;TZID=America/Denver:20251121T193000
DTEND;TZID=America/Denver:20251121T220000
DTSTAMP:20260420T084711
CREATED:20170714T015316Z
LAST-MODIFIED:20251004T175517Z
UID:10000583-1763753400-1763762400@nationalwesterncomplex.com
SUMMARY:Kicker Monster Truck Show
DESCRIPTION:Denver\, Get ready for an adrenaline-pumping experience like no other! Join us for three epic Kicker Monster Truck Shows\, featuring BIGFOOT! This family-friendly event is roaring into town on Friday\, November 21 – Saturday\, November 22. Tickets are on sale now! \nExperience the thrill as giant trucks roar to life with jaw-dropping stunts\, high-flying jumps\, and nonstop excitement for the whole family. Don’t miss the chance to feel the power\, hear the engines\, and witness the ultimate monster truck showdown! Plus witness an incredible freestyle motocross show & tough truck racing! \nThe monster trucks lining up at the National Western Center include: \n🔥 Bigfoot \n🔥 Velociraptor  \n🔥 Kamikaze  \n🔥 Dragon Slayer  \n🔥 Geronimo  \n🔥 Rat Attack \nDon’t forget to come early for the Pit Party & take a ride in a real monster truck! \nThe Kicker Monster Truck Show Pit Party is the best way to start your show day! Come down on the track & see the massive trucks up close\, meet the drivers\, take pictures and enjoy other family-friendly fun. Plus\, ride in a real monster truck! It’s an unforgettable part of the Kicker Monster Truck Show experience. *Monster Truck Ride is an additional fee  \nPit Party Details: \n\nBuy Here: https://tse.am/pit-party \n$10/ per person (online or cash at track)\nStarts 1 1/2 Hr Before\, Ends 30 Mins Before Show\nTake Pictures of Trucks & Motorcycles – Meet Drivers & Get Autographs\nMonster Truck Ride is an additional fee \nYou must have a ticket to one of the 3 shows in addition to a Pit Party Pass. \nYou will not be able to enter the venue with just a Pit Party Pass.\n\nDenver Monster Truck Show Date + Times \n📅 Friday\, November 21 – 7:30 PM – Doors – 5:30 PM (Pit Party: 5:30 PM – 7:00 PM) \n📅 Saturday\, November 22 – 1:00 PM – Doors – 11 AM (Pit Party: 11 AM – 12:30 PM) \n📅 Saturday\, November 22 – 7:30 PM – Doors – 5 PM (Pit Party: 5:30 PM – 7:00 PM) \n\n\n\nTicket Levels + Pricing\n\n\nSilver – General Admission – Outer Sections\n\n\nAdult (13 yrs & older) GA\n$26.50\n\n\nChild (3-12 yrs) GA\n$11.50\n\n\nGold – General Admission – Middle Sections\n\n\nAll Ages GA\n$36.50\n\n\nReserved – First 2 Rows – Middle Sections\n\n\nAll Ages Reserved\n$46.50\n\n\n\n*Pricing does not include 14% Service Fee added to Ticket \nHelpful Website Links: \n🔗 Event Website: https://kickermonstertruck.com/denver \n🔗 Ticketing Website: https://tse.am/monster-trucks \n🔗 Pit Party Passes: https://tse.am/pit-party \n\n\n\nShow Date + Time\nTicket Type\nLink\n\n\n11.21.25 – 7:30 PM\nGeneral Admission\nhttps://tse.am/fri-ga-kmt\n\n\n11.21.25 – 7:30 PM\nReserved (First 2 Rows)\nhttps://tse.am/fri-res-kmt\n\n\n11.22.25 – 1 PM\nGeneral Admission\nhttps://tse.am/sat-1pm-ga-kmt\n\n\n11.22.25 – 1 PM\nReserved (First 2 Rows)\nhttps://tse.am/sat-1pm-res-kmt\n\n\n11.22.25 – 7:30 PM\nGeneral Admission\nhttps://tse.am/sat-730-ga-kmt\n\n\n11.22.25 – 7:30 PM\nReserved (First 2 Rows)\nhttps://tse.am/sat-730-res-kmt\n\n\n\nTicketing Provider: TicketSeam – make sure you purchase your tickets through the links above\, or the links on the Kicker Monster Truck Website. Confirm you are purchasing tickets through ticketseam.com before completing ticket order. This is the only official ticket provider for this event. We cannot guarantee the price\, legitimacy\, or your entry if you purchase tickets from any other ticket provider.
URL:https://nationalwesterncomplex.com/event/the-kicker-denver-monster-truck-nationals/2025-11-21/
LOCATION:NW Events Center
ATTACH;FMTTYPE=image/png:https://nationalwesterncomplex.com/wp-content/uploads/2017/07/newkmtlogo-e1668619128618.png
END:VEVENT
BEGIN:VEVENT
DTSTART;TZID=America/Denver:20251122T090000
DTEND;TZID=America/Denver:20251122T190000
DTSTAMP:20260420T084711
CREATED:20240418T184818Z
LAST-MODIFIED:20250520T211857Z
UID:10000581-1763802000-1763838000@nationalwesterncomplex.com
SUMMARY:Denver Christmas Show
DESCRIPTION:SHOW DATES & HOURS\n\n\n\nFriday\,\nNovember 21\, 2025\n  9:00 am – 7:00 pm\n\n\nSaturday\,\nNovember 22\, 2025\n  9:00 am – 7:00 pm\n\n\nSunday\,\nNovember 23\, 2025\n10:00 am – 5:00 pm\n\n\n\n\n\n\n\n\n\n\n\n  \nAdmission\nAdults (at the door): $17.00\nAdults (online only): $16.00\nChildren Ages 13 & Under (at the door): FREE\nGroups (10+ tickets): $13 \nBuy Tickets \n\n\nMilitary Discount available AT DOOR only – $3.00 off with a valid active or retired military ID. \n*Adult Admission Tickets are Valid for one day of the show\, but can be used on Friday\, Saturday\, or Sunday* \nBuy Group Tickets \n  \n\nHelp\, I’m unable to find the tickets I purchased online!\nBe sure to check your junk email folder first. \nYou may have your ticket confirmation email resent to you by visiting the following link: https://www.microspec.com/tix123/Resend.cfm
URL:https://nationalwesterncomplex.com/event/denver-christmas-show/2025-11-22/
LOCATION:National Western Complex
ATTACH;FMTTYPE=image/jpeg:https://nationalwesterncomplex.com/wp-content/uploads/2024/04/denver-christmas-show.jpg
END:VEVENT
BEGIN:VEVENT
DTSTART;TZID=America/Denver:20251122T130000
DTEND;TZID=America/Denver:20251122T160000
DTSTAMP:20260420T084711
CREATED:20170714T015316Z
LAST-MODIFIED:20251004T175517Z
UID:10000584-1763816400-1763827200@nationalwesterncomplex.com
SUMMARY:Kicker Monster Truck Show
DESCRIPTION:Denver\, Get ready for an adrenaline-pumping experience like no other! Join us for three epic Kicker Monster Truck Shows\, featuring BIGFOOT! This family-friendly event is roaring into town on Friday\, November 21 – Saturday\, November 22. Tickets are on sale now! \nExperience the thrill as giant trucks roar to life with jaw-dropping stunts\, high-flying jumps\, and nonstop excitement for the whole family. Don’t miss the chance to feel the power\, hear the engines\, and witness the ultimate monster truck showdown! Plus witness an incredible freestyle motocross show & tough truck racing! \nThe monster trucks lining up at the National Western Center include: \n🔥 Bigfoot \n🔥 Velociraptor  \n🔥 Kamikaze  \n🔥 Dragon Slayer  \n🔥 Geronimo  \n🔥 Rat Attack \nDon’t forget to come early for the Pit Party & take a ride in a real monster truck! \nThe Kicker Monster Truck Show Pit Party is the best way to start your show day! Come down on the track & see the massive trucks up close\, meet the drivers\, take pictures and enjoy other family-friendly fun. Plus\, ride in a real monster truck! It’s an unforgettable part of the Kicker Monster Truck Show experience. *Monster Truck Ride is an additional fee  \nPit Party Details: \n\nBuy Here: https://tse.am/pit-party \n$10/ per person (online or cash at track)\nStarts 1 1/2 Hr Before\, Ends 30 Mins Before Show\nTake Pictures of Trucks & Motorcycles – Meet Drivers & Get Autographs\nMonster Truck Ride is an additional fee \nYou must have a ticket to one of the 3 shows in addition to a Pit Party Pass. \nYou will not be able to enter the venue with just a Pit Party Pass.\n\nDenver Monster Truck Show Date + Times \n📅 Friday\, November 21 – 7:30 PM – Doors – 5:30 PM (Pit Party: 5:30 PM – 7:00 PM) \n📅 Saturday\, November 22 – 1:00 PM – Doors – 11 AM (Pit Party: 11 AM – 12:30 PM) \n📅 Saturday\, November 22 – 7:30 PM – Doors – 5 PM (Pit Party: 5:30 PM – 7:00 PM) \n\n\n\nTicket Levels + Pricing\n\n\nSilver – General Admission – Outer Sections\n\n\nAdult (13 yrs & older) GA\n$26.50\n\n\nChild (3-12 yrs) GA\n$11.50\n\n\nGold – General Admission – Middle Sections\n\n\nAll Ages GA\n$36.50\n\n\nReserved – First 2 Rows – Middle Sections\n\n\nAll Ages Reserved\n$46.50\n\n\n\n*Pricing does not include 14% Service Fee added to Ticket \nHelpful Website Links: \n🔗 Event Website: https://kickermonstertruck.com/denver \n🔗 Ticketing Website: https://tse.am/monster-trucks \n🔗 Pit Party Passes: https://tse.am/pit-party \n\n\n\nShow Date + Time\nTicket Type\nLink\n\n\n11.21.25 – 7:30 PM\nGeneral Admission\nhttps://tse.am/fri-ga-kmt\n\n\n11.21.25 – 7:30 PM\nReserved (First 2 Rows)\nhttps://tse.am/fri-res-kmt\n\n\n11.22.25 – 1 PM\nGeneral Admission\nhttps://tse.am/sat-1pm-ga-kmt\n\n\n11.22.25 – 1 PM\nReserved (First 2 Rows)\nhttps://tse.am/sat-1pm-res-kmt\n\n\n11.22.25 – 7:30 PM\nGeneral Admission\nhttps://tse.am/sat-730-ga-kmt\n\n\n11.22.25 – 7:30 PM\nReserved (First 2 Rows)\nhttps://tse.am/sat-730-res-kmt\n\n\n\nTicketing Provider: TicketSeam – make sure you purchase your tickets through the links above\, or the links on the Kicker Monster Truck Website. Confirm you are purchasing tickets through ticketseam.com before completing ticket order. This is the only official ticket provider for this event. We cannot guarantee the price\, legitimacy\, or your entry if you purchase tickets from any other ticket provider.
URL:https://nationalwesterncomplex.com/event/the-kicker-denver-monster-truck-nationals/2025-11-22/1/
LOCATION:NW Events Center
ATTACH;FMTTYPE=image/png:https://nationalwesterncomplex.com/wp-content/uploads/2017/07/newkmtlogo-e1668619128618.png
END:VEVENT
BEGIN:VEVENT
DTSTART;TZID=America/Denver:20251122T193000
DTEND;TZID=America/Denver:20251122T220000
DTSTAMP:20260420T084711
CREATED:20170714T015316Z
LAST-MODIFIED:20251004T175517Z
UID:10000585-1763839800-1763848800@nationalwesterncomplex.com
SUMMARY:Kicker Monster Truck Show
DESCRIPTION:Denver\, Get ready for an adrenaline-pumping experience like no other! Join us for three epic Kicker Monster Truck Shows\, featuring BIGFOOT! This family-friendly event is roaring into town on Friday\, November 21 – Saturday\, November 22. Tickets are on sale now! \nExperience the thrill as giant trucks roar to life with jaw-dropping stunts\, high-flying jumps\, and nonstop excitement for the whole family. Don’t miss the chance to feel the power\, hear the engines\, and witness the ultimate monster truck showdown! Plus witness an incredible freestyle motocross show & tough truck racing! \nThe monster trucks lining up at the National Western Center include: \n🔥 Bigfoot \n🔥 Velociraptor  \n🔥 Kamikaze  \n🔥 Dragon Slayer  \n🔥 Geronimo  \n🔥 Rat Attack \nDon’t forget to come early for the Pit Party & take a ride in a real monster truck! \nThe Kicker Monster Truck Show Pit Party is the best way to start your show day! Come down on the track & see the massive trucks up close\, meet the drivers\, take pictures and enjoy other family-friendly fun. Plus\, ride in a real monster truck! It’s an unforgettable part of the Kicker Monster Truck Show experience. *Monster Truck Ride is an additional fee  \nPit Party Details: \n\nBuy Here: https://tse.am/pit-party \n$10/ per person (online or cash at track)\nStarts 1 1/2 Hr Before\, Ends 30 Mins Before Show\nTake Pictures of Trucks & Motorcycles – Meet Drivers & Get Autographs\nMonster Truck Ride is an additional fee \nYou must have a ticket to one of the 3 shows in addition to a Pit Party Pass. \nYou will not be able to enter the venue with just a Pit Party Pass.\n\nDenver Monster Truck Show Date + Times \n📅 Friday\, November 21 – 7:30 PM – Doors – 5:30 PM (Pit Party: 5:30 PM – 7:00 PM) \n📅 Saturday\, November 22 – 1:00 PM – Doors – 11 AM (Pit Party: 11 AM – 12:30 PM) \n📅 Saturday\, November 22 – 7:30 PM – Doors – 5 PM (Pit Party: 5:30 PM – 7:00 PM) \n\n\n\nTicket Levels + Pricing\n\n\nSilver – General Admission – Outer Sections\n\n\nAdult (13 yrs & older) GA\n$26.50\n\n\nChild (3-12 yrs) GA\n$11.50\n\n\nGold – General Admission – Middle Sections\n\n\nAll Ages GA\n$36.50\n\n\nReserved – First 2 Rows – Middle Sections\n\n\nAll Ages Reserved\n$46.50\n\n\n\n*Pricing does not include 14% Service Fee added to Ticket \nHelpful Website Links: \n🔗 Event Website: https://kickermonstertruck.com/denver \n🔗 Ticketing Website: https://tse.am/monster-trucks \n🔗 Pit Party Passes: https://tse.am/pit-party \n\n\n\nShow Date + Time\nTicket Type\nLink\n\n\n11.21.25 – 7:30 PM\nGeneral Admission\nhttps://tse.am/fri-ga-kmt\n\n\n11.21.25 – 7:30 PM\nReserved (First 2 Rows)\nhttps://tse.am/fri-res-kmt\n\n\n11.22.25 – 1 PM\nGeneral Admission\nhttps://tse.am/sat-1pm-ga-kmt\n\n\n11.22.25 – 1 PM\nReserved (First 2 Rows)\nhttps://tse.am/sat-1pm-res-kmt\n\n\n11.22.25 – 7:30 PM\nGeneral Admission\nhttps://tse.am/sat-730-ga-kmt\n\n\n11.22.25 – 7:30 PM\nReserved (First 2 Rows)\nhttps://tse.am/sat-730-res-kmt\n\n\n\nTicketing Provider: TicketSeam – make sure you purchase your tickets through the links above\, or the links on the Kicker Monster Truck Website. Confirm you are purchasing tickets through ticketseam.com before completing ticket order. This is the only official ticket provider for this event. We cannot guarantee the price\, legitimacy\, or your entry if you purchase tickets from any other ticket provider.
URL:https://nationalwesterncomplex.com/event/the-kicker-denver-monster-truck-nationals/2025-11-22/2/
LOCATION:NW Events Center
ATTACH;FMTTYPE=image/png:https://nationalwesterncomplex.com/wp-content/uploads/2017/07/newkmtlogo-e1668619128618.png
END:VEVENT
BEGIN:VEVENT
DTSTART;TZID=America/Denver:20251123T100000
DTEND;TZID=America/Denver:20251123T170000
DTSTAMP:20260420T084711
CREATED:20240418T184818Z
LAST-MODIFIED:20250520T211857Z
UID:10000582-1763892000-1763917200@nationalwesterncomplex.com
SUMMARY:Denver Christmas Show
DESCRIPTION:SHOW DATES & HOURS\n\n\n\nFriday\,\nNovember 21\, 2025\n  9:00 am – 7:00 pm\n\n\nSaturday\,\nNovember 22\, 2025\n  9:00 am – 7:00 pm\n\n\nSunday\,\nNovember 23\, 2025\n10:00 am – 5:00 pm\n\n\n\n\n\n\n\n\n\n\n\n  \nAdmission\nAdults (at the door): $17.00\nAdults (online only): $16.00\nChildren Ages 13 & Under (at the door): FREE\nGroups (10+ tickets): $13 \nBuy Tickets \n\n\nMilitary Discount available AT DOOR only – $3.00 off with a valid active or retired military ID. \n*Adult Admission Tickets are Valid for one day of the show\, but can be used on Friday\, Saturday\, or Sunday* \nBuy Group Tickets \n  \n\nHelp\, I’m unable to find the tickets I purchased online!\nBe sure to check your junk email folder first. \nYou may have your ticket confirmation email resent to you by visiting the following link: https://www.microspec.com/tix123/Resend.cfm
URL:https://nationalwesterncomplex.com/event/denver-christmas-show/2025-11-23/
LOCATION:National Western Complex
ATTACH;FMTTYPE=image/jpeg:https://nationalwesterncomplex.com/wp-content/uploads/2024/04/denver-christmas-show.jpg
END:VEVENT
END:VCALENDAR