BEGIN:VCALENDAR
VERSION:2.0
PRODID:-//National Western Complex - ECPv6.15.20//NONSGML v1.0//EN
CALSCALE:GREGORIAN
METHOD:PUBLISH
X-ORIGINAL-URL:https://nationalwesterncomplex.com
X-WR-CALDESC:Events for National Western Complex
REFRESH-INTERVAL;VALUE=DURATION:PT1H
X-Robots-Tag:noindex
X-PUBLISHED-TTL:PT1H
BEGIN:VTIMEZONE
TZID:America/Denver
BEGIN:DAYLIGHT
TZOFFSETFROM:-0700
TZOFFSETTO:-0600
TZNAME:MDT
DTSTART:20240310T090000
END:DAYLIGHT
BEGIN:STANDARD
TZOFFSETFROM:-0600
TZOFFSETTO:-0700
TZNAME:MST
DTSTART:20241103T080000
END:STANDARD
BEGIN:DAYLIGHT
TZOFFSETFROM:-0700
TZOFFSETTO:-0600
TZNAME:MDT
DTSTART:20250309T090000
END:DAYLIGHT
BEGIN:STANDARD
TZOFFSETFROM:-0600
TZOFFSETTO:-0700
TZNAME:MST
DTSTART:20251102T080000
END:STANDARD
BEGIN:DAYLIGHT
TZOFFSETFROM:-0700
TZOFFSETTO:-0600
TZNAME:MDT
DTSTART:20260308T090000
END:DAYLIGHT
BEGIN:STANDARD
TZOFFSETFROM:-0600
TZOFFSETTO:-0700
TZNAME:MST
DTSTART:20261101T080000
END:STANDARD
END:VTIMEZONE
BEGIN:VEVENT
DTSTART;TZID=America/Denver:20251202T090000
DTEND;TZID=America/Denver:20251204T150000
DTSTAMP:20260421T044823
CREATED:20210811T191730Z
LAST-MODIFIED:20250616T201259Z
UID:10000339-1764666000-1764860400@nationalwesterncomplex.com
SUMMARY:Rocky Mountain Winter Show 2025
DESCRIPTION:Western Winter Sports Representatives Association (WWSRA) is a not-for-profit\, membership-run association that has been successfully producing regional trade shows and demos in the outdoor\, snowsports\, and active lifestyle industries for 70 years. Over this span of seven decades we have worked with 6000+ reps and thousands of retailers in a dynamic and ever-changing environment. \n 
URL:https://nationalwesterncomplex.com/event/rocky-mountain-summer-show-2021-copy/
LOCATION:Expo Hall
ATTACH;FMTTYPE=image/png:https://nationalwesterncomplex.com/wp-content/uploads/2021/04/WWSRA_LOGO_LIT.png
END:VEVENT
BEGIN:VEVENT
DTSTART;TZID=America/Denver:20251206T090000
DTEND;TZID=America/Denver:20251206T170000
DTSTAMP:20260421T044823
CREATED:20161021T012958Z
LAST-MODIFIED:20250820T195116Z
UID:10000223-1765011600-1765040400@nationalwesterncomplex.com
SUMMARY:Dolls For Daughters Annual Holiday Toy Shop
DESCRIPTION:Dolls for Daughters® and Toys for Boys® Toy Shop\n\n\n  \nAnnual Toy Drive in Denver\n  \n\n\n\n\nAt our 16th Annual Toy Drive in Denver\, we will provide assistance to 3\,500 children ages birth to 18. We plan to provide each child with a big toy\, a small toy\, and a wooden toy car. Registration will be required to attend the event and guarantee toys for your child(ren). Registration will open on our website on Thursday\, December 5th at 9am. \nBirth certificates are REQUIRED for each child you would like to get toys for. Parents MUST bring a photo ID. No exceptions to these rules will be made. A completed survey is required before you can shop and will be given out on the day of the event.
URL:https://nationalwesterncomplex.com/event/dolls-for-daughters-annual-holiday-toy-shop/
LOCATION:Expo Hall
ATTACH;FMTTYPE=image/jpeg:https://nationalwesterncomplex.com/wp-content/uploads/2016/10/dfd-logo-450.jpg
END:VEVENT
BEGIN:VEVENT
DTSTART;TZID=America/Denver:20251212T140000
DTEND;TZID=America/Denver:20251212T200000
DTSTAMP:20260421T044823
CREATED:20230508T150012Z
LAST-MODIFIED:20251208T162310Z
UID:10000619-1765548000-1765569600@nationalwesterncomplex.com
SUMMARY:Hot Tub & Swim Spa Sale
DESCRIPTION:HOT TUB & SWIM SPA SALE \nFRIDAY 2P-8P \nSATURDAY 10A-8P \nSUNDAY 10A-6P \n1-888-SPA-SALE \nWWW.HOTTUBANDSWIMSPASALE.COM
URL:https://nationalwesterncomplex.com/event/hot-tub-swim-spa-sale/2025-12-12/
LOCATION:Expo Hall
ATTACH;FMTTYPE=image/png:https://nationalwesterncomplex.com/wp-content/uploads/2023/05/HTSSSLogo_Header_0_0.png
END:VEVENT
BEGIN:VEVENT
DTSTART;TZID=America/Denver:20251213T100000
DTEND;TZID=America/Denver:20251213T200000
DTSTAMP:20260421T044823
CREATED:20230508T150012Z
LAST-MODIFIED:20251208T162310Z
UID:10000620-1765620000-1765656000@nationalwesterncomplex.com
SUMMARY:Hot Tub & Swim Spa Sale
DESCRIPTION:HOT TUB & SWIM SPA SALE \nFRIDAY 2P-8P \nSATURDAY 10A-8P \nSUNDAY 10A-6P \n1-888-SPA-SALE \nWWW.HOTTUBANDSWIMSPASALE.COM
URL:https://nationalwesterncomplex.com/event/hot-tub-swim-spa-sale/2025-12-13/
LOCATION:Expo Hall
ATTACH;FMTTYPE=image/png:https://nationalwesterncomplex.com/wp-content/uploads/2023/05/HTSSSLogo_Header_0_0.png
END:VEVENT
BEGIN:VEVENT
DTSTART;TZID=America/Denver:20251214T100000
DTEND;TZID=America/Denver:20251214T180000
DTSTAMP:20260421T044823
CREATED:20230508T150012Z
LAST-MODIFIED:20251208T162310Z
UID:10000621-1765706400-1765735200@nationalwesterncomplex.com
SUMMARY:Hot Tub & Swim Spa Sale
DESCRIPTION:HOT TUB & SWIM SPA SALE \nFRIDAY 2P-8P \nSATURDAY 10A-8P \nSUNDAY 10A-6P \n1-888-SPA-SALE \nWWW.HOTTUBANDSWIMSPASALE.COM
URL:https://nationalwesterncomplex.com/event/hot-tub-swim-spa-sale/2025-12-14/
LOCATION:Expo Hall
ATTACH;FMTTYPE=image/png:https://nationalwesterncomplex.com/wp-content/uploads/2023/05/HTSSSLogo_Header_0_0.png
END:VEVENT
END:VCALENDAR