BEGIN:VCALENDAR
VERSION:2.0
PRODID:-//National Western Complex - ECPv6.15.20//NONSGML v1.0//EN
CALSCALE:GREGORIAN
METHOD:PUBLISH
X-WR-CALNAME:National Western Complex
X-ORIGINAL-URL:https://nationalwesterncomplex.com
X-WR-CALDESC:Events for National Western Complex
REFRESH-INTERVAL;VALUE=DURATION:PT1H
X-Robots-Tag:noindex
X-PUBLISHED-TTL:PT1H
BEGIN:VTIMEZONE
TZID:America/Denver
BEGIN:DAYLIGHT
TZOFFSETFROM:-0700
TZOFFSETTO:-0600
TZNAME:MDT
DTSTART:20250309T090000
END:DAYLIGHT
BEGIN:STANDARD
TZOFFSETFROM:-0600
TZOFFSETTO:-0700
TZNAME:MST
DTSTART:20251102T080000
END:STANDARD
BEGIN:DAYLIGHT
TZOFFSETFROM:-0700
TZOFFSETTO:-0600
TZNAME:MDT
DTSTART:20260308T090000
END:DAYLIGHT
BEGIN:STANDARD
TZOFFSETFROM:-0600
TZOFFSETTO:-0700
TZNAME:MST
DTSTART:20261101T080000
END:STANDARD
BEGIN:DAYLIGHT
TZOFFSETFROM:-0700
TZOFFSETTO:-0600
TZNAME:MDT
DTSTART:20270314T090000
END:DAYLIGHT
BEGIN:STANDARD
TZOFFSETFROM:-0600
TZOFFSETTO:-0700
TZNAME:MST
DTSTART:20271107T080000
END:STANDARD
END:VTIMEZONE
BEGIN:VEVENT
DTSTART;TZID=America/Denver:20260508T130000
DTEND;TZID=America/Denver:20260508T210000
DTSTAMP:20260420T035803
CREATED:20260417T165053Z
LAST-MODIFIED:20260417T165053Z
UID:10000637-1778245200-1778274000@nationalwesterncomplex.com
SUMMARY:DAI-CON Tattoo and Culture Festival
DESCRIPTION:The Denver Anime Invitational Tattoo and Culture Festival is Denver’s premier 18-and-Up event for anime enthusiasts and tattoo lovers.  With dozens of world-renowned body modification artists\, as well as vendors providing access to your favorite collectibles\, and unique artists rendering your favorite moments and characters\, all under one roof\, you will certainly find your needs and hopes met. \nJoin us for a one-of-a-kind experience celebrating the fusion of anime and body art.
URL:https://nationalwesterncomplex.com/event/dai-con-tattoo-and-culture-festival/2026-05-08/
LOCATION:National Western Complex
END:VEVENT
BEGIN:VEVENT
DTSTART;TZID=America/Denver:20260509T110000
DTEND;TZID=America/Denver:20260509T210000
DTSTAMP:20260420T035803
CREATED:20260417T165053Z
LAST-MODIFIED:20260417T165053Z
UID:10000638-1778324400-1778360400@nationalwesterncomplex.com
SUMMARY:DAI-CON Tattoo and Culture Festival
DESCRIPTION:The Denver Anime Invitational Tattoo and Culture Festival is Denver’s premier 18-and-Up event for anime enthusiasts and tattoo lovers.  With dozens of world-renowned body modification artists\, as well as vendors providing access to your favorite collectibles\, and unique artists rendering your favorite moments and characters\, all under one roof\, you will certainly find your needs and hopes met. \nJoin us for a one-of-a-kind experience celebrating the fusion of anime and body art.
URL:https://nationalwesterncomplex.com/event/dai-con-tattoo-and-culture-festival/2026-05-09/
LOCATION:National Western Complex
END:VEVENT
BEGIN:VEVENT
DTSTART;TZID=America/Denver:20260510T110000
DTEND;TZID=America/Denver:20260510T180000
DTSTAMP:20260420T035803
CREATED:20260417T165053Z
LAST-MODIFIED:20260417T165053Z
UID:10000639-1778410800-1778436000@nationalwesterncomplex.com
SUMMARY:DAI-CON Tattoo and Culture Festival
DESCRIPTION:The Denver Anime Invitational Tattoo and Culture Festival is Denver’s premier 18-and-Up event for anime enthusiasts and tattoo lovers.  With dozens of world-renowned body modification artists\, as well as vendors providing access to your favorite collectibles\, and unique artists rendering your favorite moments and characters\, all under one roof\, you will certainly find your needs and hopes met. \nJoin us for a one-of-a-kind experience celebrating the fusion of anime and body art.
URL:https://nationalwesterncomplex.com/event/dai-con-tattoo-and-culture-festival/2026-05-10/
LOCATION:National Western Complex
END:VEVENT
END:VCALENDAR