BEGIN:VCALENDAR
VERSION:2.0
PRODID:-//National Western Complex - ECPv6.15.20//NONSGML v1.0//EN
CALSCALE:GREGORIAN
METHOD:PUBLISH
X-ORIGINAL-URL:https://nationalwesterncomplex.com
X-WR-CALDESC:Events for National Western Complex
REFRESH-INTERVAL;VALUE=DURATION:PT1H
X-Robots-Tag:noindex
X-PUBLISHED-TTL:PT1H
BEGIN:VTIMEZONE
TZID:America/Denver
BEGIN:DAYLIGHT
TZOFFSETFROM:-0700
TZOFFSETTO:-0600
TZNAME:MDT
DTSTART:20250309T090000
END:DAYLIGHT
BEGIN:STANDARD
TZOFFSETFROM:-0600
TZOFFSETTO:-0700
TZNAME:MST
DTSTART:20251102T080000
END:STANDARD
BEGIN:DAYLIGHT
TZOFFSETFROM:-0700
TZOFFSETTO:-0600
TZNAME:MDT
DTSTART:20260308T090000
END:DAYLIGHT
BEGIN:STANDARD
TZOFFSETFROM:-0600
TZOFFSETTO:-0700
TZNAME:MST
DTSTART:20261101T080000
END:STANDARD
BEGIN:DAYLIGHT
TZOFFSETFROM:-0700
TZOFFSETTO:-0600
TZNAME:MDT
DTSTART:20270314T090000
END:DAYLIGHT
BEGIN:STANDARD
TZOFFSETFROM:-0600
TZOFFSETTO:-0700
TZNAME:MST
DTSTART:20271107T080000
END:STANDARD
END:VTIMEZONE
BEGIN:VEVENT
DTSTART;TZID=America/Denver:20260425T100000
DTEND;TZID=America/Denver:20260425T190000
DTSTAMP:20260425T112846
CREATED:20240404T213716Z
LAST-MODIFIED:20251219T224627Z
UID:10000623-1777111200-1777143600@nationalwesterncomplex.com
SUMMARY:Body\, Mind\, Spirt Celebration
DESCRIPTION:TOWARDS WONDER\nWelcome to Body Mind Spirit Celebration 2026 — A Journey Toward Wonder. This year\, as we return to Denver\, we invite you into a deeper kind of presence. Toward Wonder isn’t just our theme—it’s a direction. A movement into what nourishes your soul. Across every booth\, every workshop\, and every conversation\, there’s a golden thread connecting you back to the awe that still lives in your cells. Whether you’re here for healing\, discovery\, or just a few moments of magic—thank you for joining us on the path Toward Wonder. \n\n 
URL:https://nationalwesterncomplex.com/event/body-mind-spirt-celebration/2026-04-25/
LOCATION:Expo Hall and Hall of Education
ATTACH;FMTTYPE=image/png:https://nationalwesterncomplex.com/wp-content/uploads/2024/04/BMS.png
END:VEVENT
BEGIN:VEVENT
DTSTART;TZID=America/Denver:20260425T120000
DTEND;TZID=America/Denver:20260425T150000
DTSTAMP:20260425T112846
CREATED:20160304T040223Z
LAST-MODIFIED:20250917T201443Z
UID:10000199-1777118400-1777129200@nationalwesterncomplex.com
SUMMARY:Whiz Kids Tutoring Rodeo
DESCRIPTION:  \n 
URL:https://nationalwesterncomplex.com/event/whiz-kids-tutoring-rodeo/
LOCATION:Stadium Arena
ATTACH;FMTTYPE=image/jpeg:https://nationalwesterncomplex.com/wp-content/uploads/2016/03/whizkids_logo.jpg
ORGANIZER;CN="Whiz Kids Tutoring%2C Inc":MAILTO:info@whizkidstutoring.com
END:VEVENT
END:VCALENDAR