BEGIN:VCALENDAR
VERSION:2.0
PRODID:-//National Western Complex - ECPv6.15.20//NONSGML v1.0//EN
CALSCALE:GREGORIAN
METHOD:PUBLISH
X-ORIGINAL-URL:https://nationalwesterncomplex.com
X-WR-CALDESC:Events for National Western Complex
REFRESH-INTERVAL;VALUE=DURATION:PT1H
X-Robots-Tag:noindex
X-PUBLISHED-TTL:PT1H
BEGIN:VTIMEZONE
TZID:America/Denver
BEGIN:DAYLIGHT
TZOFFSETFROM:-0700
TZOFFSETTO:-0600
TZNAME:MDT
DTSTART:20250309T090000
END:DAYLIGHT
BEGIN:STANDARD
TZOFFSETFROM:-0600
TZOFFSETTO:-0700
TZNAME:MST
DTSTART:20251102T080000
END:STANDARD
BEGIN:DAYLIGHT
TZOFFSETFROM:-0700
TZOFFSETTO:-0600
TZNAME:MDT
DTSTART:20260308T090000
END:DAYLIGHT
BEGIN:STANDARD
TZOFFSETFROM:-0600
TZOFFSETTO:-0700
TZNAME:MST
DTSTART:20261101T080000
END:STANDARD
BEGIN:DAYLIGHT
TZOFFSETFROM:-0700
TZOFFSETTO:-0600
TZNAME:MDT
DTSTART:20270314T090000
END:DAYLIGHT
BEGIN:STANDARD
TZOFFSETFROM:-0600
TZOFFSETTO:-0700
TZNAME:MST
DTSTART:20271107T080000
END:STANDARD
END:VTIMEZONE
BEGIN:VEVENT
DTSTART;TZID=America/Denver:20260110T090000
DTEND;TZID=America/Denver:20260125T200000
DTSTAMP:20260420T193416
CREATED:20161117T054749Z
LAST-MODIFIED:20250820T195204Z
UID:10000225-1768035600-1769371200@nationalwesterncomplex.com
SUMMARY:National Western Stock Show
DESCRIPTION:The National Western Stock Show\, established in 1906\, is the premier livestock\, rodeo\, and horse show in the nation\, serving agricultural producers and consumers throughout the world.  A 501(c)(3) charitable organization providing education in agriculture\, including college and graduate level scholarships in agriculture and veterinary medicine for practice in rural areas. \nThe National Western Stock Show\, one of Colorado’s preeminent tourist destinations\, held every January for 16 days.  A nationally recognized western heritage and entertainment event\, the stock show hosts one of the world’s richest regular season professional rodeos\, one of the country’s largest horse shows and Colorado’s largest western trade show\, attracting attendance numbers over 650\,000 visitors each year. \nThroughout this historic event\, the National Western strives to strengthen American agriculture through enrichment programs and youth education in livestock\, equestrian\, farming\, ranching\, animal awareness and appreciation.  We celebrate western lifestyles\, our communities\, provide life-long memories and family traditions. \n  \n 
URL:https://nationalwesterncomplex.com/event/111th-national-western-stock-show/
LOCATION:National Western Complex
ATTACH;FMTTYPE=image/jpeg:https://nationalwesterncomplex.com/wp-content/uploads/2015/08/2015_NWSS_NoDates-e1479336944967.jpg
END:VEVENT
END:VCALENDAR