BEGIN:VCALENDAR
VERSION:2.0
PRODID:-//National Western Complex - ECPv6.15.20//NONSGML v1.0//EN
CALSCALE:GREGORIAN
METHOD:PUBLISH
X-WR-CALNAME:National Western Complex
X-ORIGINAL-URL:https://nationalwesterncomplex.com
X-WR-CALDESC:Events for National Western Complex
REFRESH-INTERVAL;VALUE=DURATION:PT1H
X-Robots-Tag:noindex
X-PUBLISHED-TTL:PT1H
BEGIN:VTIMEZONE
TZID:America/Denver
BEGIN:DAYLIGHT
TZOFFSETFROM:-0700
TZOFFSETTO:-0600
TZNAME:MDT
DTSTART:20230312T090000
END:DAYLIGHT
BEGIN:STANDARD
TZOFFSETFROM:-0600
TZOFFSETTO:-0700
TZNAME:MST
DTSTART:20231105T080000
END:STANDARD
BEGIN:DAYLIGHT
TZOFFSETFROM:-0700
TZOFFSETTO:-0600
TZNAME:MDT
DTSTART:20240310T090000
END:DAYLIGHT
BEGIN:STANDARD
TZOFFSETFROM:-0600
TZOFFSETTO:-0700
TZNAME:MST
DTSTART:20241103T080000
END:STANDARD
BEGIN:DAYLIGHT
TZOFFSETFROM:-0700
TZOFFSETTO:-0600
TZNAME:MDT
DTSTART:20250309T090000
END:DAYLIGHT
BEGIN:STANDARD
TZOFFSETFROM:-0600
TZOFFSETTO:-0700
TZNAME:MST
DTSTART:20251102T080000
END:STANDARD
END:VTIMEZONE
BEGIN:VEVENT
DTSTART;TZID=America/Denver:20240821T090000
DTEND;TZID=America/Denver:20240823T170000
DTSTAMP:20260421T061338
CREATED:20210422T191355Z
LAST-MODIFIED:20240625T212430Z
UID:10000275-1724230800-1724432400@nationalwesterncomplex.com
SUMMARY:Rocky Mountain Apparel\, Gift & Resort Show
DESCRIPTION:The Rocky Mountain Apparel\, Gift & Resort Show is the mountain region’s premier wholesale retail buyers event. \nThis semi-annual event features the leading providers of souvenir\, gift\, and apparel items in categories such as lodge and resort souvenirs\, Native American jewelry\, home décor\, pottery and rugs\, apparel\, fashion accessories and jewelry\, outdoor and western products. \nThe Rocky Mountain Apparel\, Gift & Resort Show remains a top destination for National Parks\, ski resorts\, zoos & aquariums\, museums\, airports\, retail stores\, spas and boutiques. The Rocky Mountain Apparel\, Gift & Resort Show will feature over 500 lines of merchandise. \nClick Here to Purchase Parking Now with 
URL:https://nationalwesterncomplex.com/event/rocky-mountain-apparel-gift-resort-show/
LOCATION:Expo Hall and Hall of Education
ORGANIZER;CN="Rocky Mountain Apparel%2C Gift & Resort Show":MAILTO:matt@redlinexpo.com
END:VEVENT
END:VCALENDAR